BEGIN:VCALENDAR
VERSION:2.0
PRODID:-//Made By Kathryn - ECPv6.15.20//NONSGML v1.0//EN
CALSCALE:GREGORIAN
METHOD:PUBLISH
X-WR-CALNAME:Made By Kathryn
X-ORIGINAL-URL:https://www.madebykathryn.com
X-WR-CALDESC:Events for Made By Kathryn
REFRESH-INTERVAL;VALUE=DURATION:PT1H
X-Robots-Tag:noindex
X-PUBLISHED-TTL:PT1H
BEGIN:VTIMEZONE
TZID:America/New_York
BEGIN:DAYLIGHT
TZOFFSETFROM:-0500
TZOFFSETTO:-0400
TZNAME:EDT
DTSTART:20170312T070000
END:DAYLIGHT
BEGIN:STANDARD
TZOFFSETFROM:-0400
TZOFFSETTO:-0500
TZNAME:EST
DTSTART:20171105T060000
END:STANDARD
BEGIN:DAYLIGHT
TZOFFSETFROM:-0500
TZOFFSETTO:-0400
TZNAME:EDT
DTSTART:20180311T070000
END:DAYLIGHT
BEGIN:STANDARD
TZOFFSETFROM:-0400
TZOFFSETTO:-0500
TZNAME:EST
DTSTART:20181104T060000
END:STANDARD
BEGIN:DAYLIGHT
TZOFFSETFROM:-0500
TZOFFSETTO:-0400
TZNAME:EDT
DTSTART:20190310T070000
END:DAYLIGHT
BEGIN:STANDARD
TZOFFSETFROM:-0400
TZOFFSETTO:-0500
TZNAME:EST
DTSTART:20191103T060000
END:STANDARD
BEGIN:DAYLIGHT
TZOFFSETFROM:-0500
TZOFFSETTO:-0400
TZNAME:EDT
DTSTART:20200308T070000
END:DAYLIGHT
BEGIN:STANDARD
TZOFFSETFROM:-0400
TZOFFSETTO:-0500
TZNAME:EST
DTSTART:20201101T060000
END:STANDARD
BEGIN:DAYLIGHT
TZOFFSETFROM:-0500
TZOFFSETTO:-0400
TZNAME:EDT
DTSTART:20210314T070000
END:DAYLIGHT
BEGIN:STANDARD
TZOFFSETFROM:-0400
TZOFFSETTO:-0500
TZNAME:EST
DTSTART:20211107T060000
END:STANDARD
BEGIN:DAYLIGHT
TZOFFSETFROM:-0500
TZOFFSETTO:-0400
TZNAME:EDT
DTSTART:20220313T070000
END:DAYLIGHT
BEGIN:STANDARD
TZOFFSETFROM:-0400
TZOFFSETTO:-0500
TZNAME:EST
DTSTART:20221106T060000
END:STANDARD
END:VTIMEZONE
BEGIN:VTIMEZONE
TZID:America/Chicago
BEGIN:DAYLIGHT
TZOFFSETFROM:-0600
TZOFFSETTO:-0500
TZNAME:CDT
DTSTART:20180311T080000
END:DAYLIGHT
BEGIN:STANDARD
TZOFFSETFROM:-0500
TZOFFSETTO:-0600
TZNAME:CST
DTSTART:20181104T070000
END:STANDARD
BEGIN:DAYLIGHT
TZOFFSETFROM:-0600
TZOFFSETTO:-0500
TZNAME:CDT
DTSTART:20190310T080000
END:DAYLIGHT
BEGIN:STANDARD
TZOFFSETFROM:-0500
TZOFFSETTO:-0600
TZNAME:CST
DTSTART:20191103T070000
END:STANDARD
BEGIN:DAYLIGHT
TZOFFSETFROM:-0600
TZOFFSETTO:-0500
TZNAME:CDT
DTSTART:20200308T080000
END:DAYLIGHT
BEGIN:STANDARD
TZOFFSETFROM:-0500
TZOFFSETTO:-0600
TZNAME:CST
DTSTART:20201101T070000
END:STANDARD
BEGIN:DAYLIGHT
TZOFFSETFROM:-0600
TZOFFSETTO:-0500
TZNAME:CDT
DTSTART:20210314T080000
END:DAYLIGHT
BEGIN:STANDARD
TZOFFSETFROM:-0500
TZOFFSETTO:-0600
TZNAME:CST
DTSTART:20211107T070000
END:STANDARD
END:VTIMEZONE
BEGIN:VTIMEZONE
TZID:America/Halifax
BEGIN:DAYLIGHT
TZOFFSETFROM:-0400
TZOFFSETTO:-0300
TZNAME:ADT
DTSTART:20180311T060000
END:DAYLIGHT
BEGIN:STANDARD
TZOFFSETFROM:-0300
TZOFFSETTO:-0400
TZNAME:AST
DTSTART:20181104T050000
END:STANDARD
BEGIN:DAYLIGHT
TZOFFSETFROM:-0400
TZOFFSETTO:-0300
TZNAME:ADT
DTSTART:20190310T060000
END:DAYLIGHT
BEGIN:STANDARD
TZOFFSETFROM:-0300
TZOFFSETTO:-0400
TZNAME:AST
DTSTART:20191103T050000
END:STANDARD
BEGIN:DAYLIGHT
TZOFFSETFROM:-0400
TZOFFSETTO:-0300
TZNAME:ADT
DTSTART:20200308T060000
END:DAYLIGHT
BEGIN:STANDARD
TZOFFSETFROM:-0300
TZOFFSETTO:-0400
TZNAME:AST
DTSTART:20201101T050000
END:STANDARD
END:VTIMEZONE
BEGIN:VTIMEZONE
TZID:UTC
BEGIN:STANDARD
TZOFFSETFROM:+0000
TZOFFSETTO:+0000
TZNAME:UTC
DTSTART:20170101T000000
END:STANDARD
END:VTIMEZONE
BEGIN:VTIMEZONE
TZID:America/Los_Angeles
BEGIN:DAYLIGHT
TZOFFSETFROM:-0800
TZOFFSETTO:-0700
TZNAME:PDT
DTSTART:20170312T100000
END:DAYLIGHT
BEGIN:STANDARD
TZOFFSETFROM:-0700
TZOFFSETTO:-0800
TZNAME:PST
DTSTART:20171105T090000
END:STANDARD
BEGIN:DAYLIGHT
TZOFFSETFROM:-0800
TZOFFSETTO:-0700
TZNAME:PDT
DTSTART:20180311T100000
END:DAYLIGHT
BEGIN:STANDARD
TZOFFSETFROM:-0700
TZOFFSETTO:-0800
TZNAME:PST
DTSTART:20181104T090000
END:STANDARD
BEGIN:DAYLIGHT
TZOFFSETFROM:-0800
TZOFFSETTO:-0700
TZNAME:PDT
DTSTART:20190310T100000
END:DAYLIGHT
BEGIN:STANDARD
TZOFFSETFROM:-0700
TZOFFSETTO:-0800
TZNAME:PST
DTSTART:20191103T090000
END:STANDARD
END:VTIMEZONE
BEGIN:VEVENT
DTSTART;TZID=America/New_York:20210118T160000
DTEND;TZID=America/New_York:20210118T180000
DTSTAMP:20260423T093034
CREATED:20201226T174545Z
LAST-MODIFIED:20201226T174545Z
UID:717-1610985600-1610992800@www.madebykathryn.com
SUMMARY:Developing a Diverse and Inclusive Portfolio
DESCRIPTION:Featuring: Karneshia Shantel\, Kathryn Hamm\, and Risha Grant \nWhat does your portfolio say about the community you serve? How do you know if your photography website is inclusive? Learn about the benefits of cultivating a diverse and inclusive portfolio and how to assess your current portfolio and broaden your network of clients. \nThis panel of diversity\, equity\, and inclusion specialists and advocates will discuss tips and resources to create a diverse and inclusive photography portfolio. Together they will help you navigate the language around gender expression\, sexual orientation\, disability\, and racial identity. With so much to learn and discuss in a short period of time\, the class will include a downloadable resource guide for those who wish to dive deeper into the topics.
URL:https://www.madebykathryn.com/event/developing-a-diverse-and-inclusive-portfolio/
LOCATION:Online
CATEGORIES:Diversity & Inclusion
END:VEVENT
BEGIN:VEVENT
DTSTART;TZID=America/New_York:20210111T190000
DTEND;TZID=America/New_York:20210111T210000
DTSTAMP:20260423T093034
CREATED:20201226T173518Z
LAST-MODIFIED:20201226T173518Z
UID:707-1610391600-1610398800@www.madebykathryn.com
SUMMARY:Anti-Racist Education Seminar
DESCRIPTION:This is a four-part\, anti-racist discussion series created for White (and White-presenting) parents in a school community.
URL:https://www.madebykathryn.com/event/anti-racist-education-seminar/
LOCATION:Virtual
CATEGORIES:Diversity & Inclusion
END:VEVENT
BEGIN:VEVENT
DTSTART;TZID=America/Chicago:20200916T080000
DTEND;TZID=America/Chicago:20200916T170000
DTSTAMP:20260423T093034
CREATED:20200420T144949Z
LAST-MODIFIED:20200420T144949Z
UID:558-1600243200-1600275600@www.madebykathryn.com
SUMMARY:Wedding Pro Experience / St. Louis
DESCRIPTION:Join Kathryn Hamm\, the WeddingPro community\, and other dynamic speakers as the #WeddingProExperience heads to St. Louis in September\, 2020. Details about the event will be announced soon.
URL:https://www.madebykathryn.com/event/wedding-pro-experience-st-louis/
CATEGORIES:The Pro Experience
ATTACH;FMTTYPE=image/png:https://www.madebykathryn.com/wp-content/uploads/2020/04/ProXMap2020.png
END:VEVENT
BEGIN:VEVENT
DTSTART;TZID=America/New_York:20200617T120000
DTEND;TZID=America/New_York:20200617T130000
DTSTAMP:20260423T093034
CREATED:20200420T150920Z
LAST-MODIFIED:20200521T164823Z
UID:565-1592395200-1592398800@www.madebykathryn.com
SUMMARY:Privia Health Pride Month Talk
DESCRIPTION:This event\, organized as an LGBTQ Pride related event for an employee group\, is not open to the public.
URL:https://www.madebykathryn.com/event/privia-health-pride-month-talk/
CATEGORIES:Diversity & Inclusion
ATTACH;FMTTYPE=image/jpeg:https://www.madebykathryn.com/wp-content/uploads/2020/04/privia-logo.jpg
END:VEVENT
BEGIN:VEVENT
DTSTART;TZID=America/Halifax:20190910T080000
DTEND;TZID=America/Halifax:20190910T170000
DTSTAMP:20260423T093034
CREATED:20190905T215416Z
LAST-MODIFIED:20190905T215416Z
UID:453-1568102400-1568134800@www.madebykathryn.com
SUMMARY:Wedding Pro Experience - Washington DC
DESCRIPTION:Take Your Business To The Next Level With The Knot + WeddingWire \nSpend a full day with the local wedding community to enjoy a full day of learning and inspiration.
URL:https://www.madebykathryn.com/event/wedding-pro-experience-washington-dc-2019/
LOCATION:City Winery DC\, 1350 Okie Street NE\, Washington\, DC\, 20002\, United States
CATEGORIES:The Pro Experience
ATTACH;FMTTYPE=image/jpeg:https://www.madebykathryn.com/wp-content/uploads/2019/09/unnamed.jpg
END:VEVENT
BEGIN:VEVENT
DTSTART;TZID=UTC:20190722T123000
DTEND;TZID=UTC:20190722T143000
DTSTAMP:20260423T093034
CREATED:20190610T192653Z
LAST-MODIFIED:20190610T192653Z
UID:445-1563798600-1563805800@www.madebykathryn.com
SUMMARY:LGBT Equality and the 50th Anniversary of Stonewall: a Conversation with Kathryn Hamm '91
DESCRIPTION:This discussion is sponsored by Princeton in Washington.
URL:https://www.madebykathryn.com/event/lgbt-equality-and-the-50th-anniversary-of-stonewall-a-conversation-with-kathryn-hamm-91/
LOCATION:Private Event\, Washington\, DC\, United States
END:VEVENT
BEGIN:VEVENT
DTSTART;TZID=UTC:20190606T143000
DTEND;TZID=UTC:20190606T160000
DTSTAMP:20260423T093034
CREATED:20190606T052233Z
LAST-MODIFIED:20190606T052233Z
UID:442-1559831400-1559836800@www.madebykathryn.com
SUMMARY:The Knot Worldwide Webinar: LGBTQ Wedding Trends
DESCRIPTION:This premium webinar features same-sex wedding pioneer\, Kathryn Hamm\, in honor of Pride month. \nThe webinar will offer wedding professionals an overview of LGBTQ Pride\, tips for understanding how to better serve same-sex couples\, a look at how same-sex wedding trends have influenced today’s couples\, and steps for adding inclusive practices into one’s wedding service offerings.
URL:https://www.madebykathryn.com/event/the-knot-worldwide-webinar-lgbtq-wedding-trends/
LOCATION:Online
CATEGORIES:TKWW Education,Webinar
ATTACH;FMTTYPE=image/jpeg:https://www.madebykathryn.com/wp-content/uploads/2019/06/presentationjune6cover.jpg
END:VEVENT
BEGIN:VEVENT
DTSTART;TZID=UTC:20190605T140000
DTEND;TZID=UTC:20190605T153000
DTSTAMP:20260423T093034
CREATED:20190606T051513Z
LAST-MODIFIED:20190606T051513Z
UID:437-1559743200-1559748600@www.madebykathryn.com
SUMMARY:Webinar: A Developmental Approach to Transracial Adoption
DESCRIPTION:This webinar is intended for families considering adoption\, foster care or are already parenting a child of a race other than their own. Kathryn\, a white adoptive parent of a brown son\, joins two adult adoptees of color who were raised by white parents to share their experiences in adopted families. Katie Wynen\, an adoption social worker at Pact and a transracial adoptee herself\, hosts the webinar reviewing the developmental needs of transracially adopted youth and the responsibilities that parents — especially white parents — have in raising adopted children of color.
URL:https://www.madebykathryn.com/event/webinar-a-developmental-approach-to-transracial-adoption/
LOCATION:Online
CATEGORIES:Adoption & Family
ATTACH;FMTTYPE=image/jpeg:https://www.madebykathryn.com/wp-content/uploads/2019/06/logocircle-only.jpg
END:VEVENT
BEGIN:VEVENT
DTSTART;TZID=America/Chicago:20190429T080000
DTEND;TZID=America/Chicago:20190429T170000
DTSTAMP:20260423T093034
CREATED:20190413T235324Z
LAST-MODIFIED:20190413T235324Z
UID:432-1556524800-1556557200@www.madebykathryn.com
SUMMARY:The Pro Experience - Houston
DESCRIPTION:Get ready for #TheProExperience on April 29 at Hilton Post Oak! It’s a full day of education and inspiration with The Knot Pro\, WeddingWireEDU\, and the local wedding pro community. Featured speakers\, experts and networking opportunities will help wedding professionals take their businesses to the next level. A “headshot bar” will be available for professionals seeking an updated professional headshot for digital marketing. \nKathryn Hamm will present “Beyond Inclusive Marketing” and be available for information business consultations during the conference.
URL:https://www.madebykathryn.com/event/the-pro-experience-houston/
LOCATION:Hilton Houston Post Oak by the Galleria\, 2001 Post Oak Boulevard\, Houston\, TX\, 77054\, United States
CATEGORIES:The Pro Experience
ATTACH;FMTTYPE=image/jpeg:https://www.madebykathryn.com/wp-content/uploads/2019/04/Houston_ProExperience_socialgraphic-scaled.jpg
END:VEVENT
BEGIN:VEVENT
DTSTART;TZID=America/New_York:20190423T090000
DTEND;TZID=America/New_York:20190423T170000
DTSTAMP:20260423T093034
CREATED:20190321T215939Z
LAST-MODIFIED:20190323T191040Z
UID:423-1556010000-1556038800@www.madebykathryn.com
SUMMARY:The Pro Experience - Charlotte\, NC
DESCRIPTION:The Pro Experience with The Knot and Wedding Wire is a full day of education for wedding professionals including inspiration and business-building tactics. The day’s events include social media consultations\, storefront strategy sessions\, deep dive topic sessions\, a headshot bar\, styled shots\, a seated lunch and cocktail networking hour. \nPresentation Topic: “Beyond Inclusive Marketing”
URL:https://www.madebykathryn.com/event/pro-experience-charlotte-apr-23-2019/
LOCATION:The Ballantyne\, 10000 Ballantyne Commons Pkwy Charlotte\, NC\, Charlotte\, NC\, 28277\, United States
CATEGORIES:The Pro Experience
ATTACH;FMTTYPE=image/jpeg:https://www.madebykathryn.com/wp-content/uploads/2019/03/TheProE-Charlotte-SocialGraphic-scaled.jpg
END:VEVENT
BEGIN:VEVENT
DTSTART;TZID=UTC:20181106T090000
DTEND;TZID=UTC:20181106T220000
DTSTAMP:20260423T093034
CREATED:20180913T061406Z
LAST-MODIFIED:20180913T061406Z
UID:415-1541494800-1541541600@www.madebykathryn.com
SUMMARY:WeddingMBA
DESCRIPTION:Love Is Love: Serving Same-Sex Couples with Kathryn Hamm \nLGBTQ couples seek wedding professionals who understand their needs and are the best at what they do. Learn industry best practices when it comes to inclusive marketing\, build relationships\, and convert your skill set into meaningful services for same-sex weddings. \n\nImprove your inclusive language\nUnderstand the needs of LGBTQ couples in your local market\nDevelop responsive offerings for the latest trends in same-sex weddings\n\nLearn more: https://weddingmba.com/index.php/convention-schedule.html
URL:https://www.madebykathryn.com/event/weddingmba/
LOCATION:Las Vegas Convention Center\, Las Vegas\, NV\, United States
ATTACH;FMTTYPE=image/png:https://www.madebykathryn.com/wp-content/uploads/2017/09/WMBA-Badge.g-Speaker-e1536804784104.png
END:VEVENT
BEGIN:VEVENT
DTSTART;TZID=UTC:20181016T120000
DTEND;TZID=UTC:20181016T190000
DTSTAMP:20260423T093034
CREATED:20180913T060254Z
LAST-MODIFIED:20180913T060526Z
UID:407-1539691200-1539716400@www.madebykathryn.com
SUMMARY:WeddingWire World (Dallas)
DESCRIPTION:Join Kathryn Hamm\, WeddingWire Education Expert\, Diversity & Inclusion Specialist for her talk: “Open for Business: The Value of Speaking to a Broader Audience.”\n \nMarriage is a contract entered into by two people: are you considering both of them in the planning process and wedding day? WeddingWire Education Expert Kathryn Hamm shares why wedding professionals must take an honest look at their assumptions and interactions to break the habits that are no longer serving them… or their clients. \nUse code KATHRYNDALLAS for a $49 ticket: https://wedwi.re/KathrynDallas.
URL:https://www.madebykathryn.com/event/weddingwire-world-dallas/
LOCATION:The Tower Club\, 1601 Elm Street\, 48th Floor\, TX\, 75201\, United States
CATEGORIES:WeddingWire World
ATTACH;FMTTYPE=image/gif:https://www.madebykathryn.com/wp-content/uploads/2018/09/Header-GIF-Dallas.gif
END:VEVENT
BEGIN:VEVENT
DTSTART;VALUE=DATE:20180730
DTEND;VALUE=DATE:20180731
DTSTAMP:20260423T093034
CREATED:20180201T234328Z
LAST-MODIFIED:20180201T235111Z
UID:343-1532908800-1532995199@www.madebykathryn.com
SUMMARY:WeddingWire World DC (2018)
DESCRIPTION:Join me and other industry experts for a day of intensive education for wedding professionals at WeddingWire World DC (2018). \nRegistration information\, TBD. \nOpen For Business: The Value of Speaking to a Broader Audience\n with Kathryn Hamm\nAttend this session to learn:\n\nThe latest data about inclusivity in wedding-related media\nThe necessity of multiculturalism in your business practices\nTips for developing marketing materials that are inclusive of all couples
URL:https://www.madebykathryn.com/event/weddingwire-world-dc-2018/
LOCATION:Mead Center for American Theater\, 1101 6th Street\, SW\, Washington\, DC\, 20024\, United States
CATEGORIES:WeddingWire World
ATTACH;FMTTYPE=image/jpeg:https://www.madebykathryn.com/wp-content/uploads/2018/02/WorldSnap-scaled.jpg
END:VEVENT
BEGIN:VEVENT
DTSTART;TZID=America/New_York:20180417T083000
DTEND;TZID=America/New_York:20180417T180000
DTSTAMP:20260423T093034
CREATED:20180112T063050Z
LAST-MODIFIED:20180314T013233Z
UID:332-1523953800-1523988000@www.madebykathryn.com
SUMMARY:WeddingWire World Florida (2018)
DESCRIPTION:Join me and other industry experts for a day of intensive education for wedding professionals at WeddingWire World Florida (2018). \nLearn More & Register! \nOpen For Business: The Value of Speaking to a Broader Audience\n with Kathryn Hamm\nAttend this session to learn:\n\nThe latest data about inclusivity in wedding-related media\nThe necessity of multiculturalism in your business practices\nTips for developing marketing materials that are inclusive of all couples
URL:https://www.madebykathryn.com/event/weddingwire-world-florida-2018/
LOCATION:Miramar Cultural Center\, 2400 Civic Center Place\, Miramar\, FL\, 33025\, United States
CATEGORIES:WeddingWire World
ATTACH;FMTTYPE=image/jpeg:https://www.madebykathryn.com/wp-content/uploads/2018/01/EDU.jpg
END:VEVENT
BEGIN:VEVENT
DTSTART;VALUE=DATE:20180206
DTEND;VALUE=DATE:20180207
DTSTAMP:20260423T093034
CREATED:20180111T235445Z
LAST-MODIFIED:20180112T062217Z
UID:321-1517875200-1517961599@www.madebykathryn.com
SUMMARY:WeddingWire World LA (2018)
DESCRIPTION:Join me and other industry experts for a day of intensive education for wedding professionals at WeddingWire World LA (2018). \nUse code KATHRYN2018 at registration for reduced rate of $50. \nOpen For Business: The Value of Speaking to a Broader Audience\n\nAttend this session to learn:\n\nThe latest data about inclusivity in wedding-related media\nThe necessity of multiculturalism in your business practices\nTips for developing marketing materials that are inclusive of all couples
URL:https://www.madebykathryn.com/event/weddingwire-world-la-2018/
LOCATION:Skirball Cultural Center\, 2701 N. Sepulveda Blvd\, Los Angeles\, CA\, 90049\, United States
CATEGORIES:WeddingWire World
ATTACH;FMTTYPE=image/gif:https://www.madebykathryn.com/wp-content/uploads/2018/01/WWW_18-LA-Shareable-Speaker-Announcement-Instagram-GIF.gif
END:VEVENT
END:VCALENDAR